BEGIN:VCALENDAR
VERSION:2.0
PRODID:-//ChamberMaster//Event Calendar 2.0//EN
METHOD:PUBLISH
X-PUBLISHED-TTL:P3D
REFRESH-INTERVAL:P3D
CALSCALE:GREGORIAN
BEGIN:VEVENT
DTSTART:20260513T220000Z
DTEND:20260514T000000Z
X-MICROSOFT-CDO-ALLDAYEVENT:FALSE
SUMMARY:2026 Networking at Night @ Tri-City Services
DESCRIPTION:Tri-City Services will be hosting Networking at Night on May 13th at their location located at 321 4th Ave N\, Wisconsin Rapids\, WI\n\nNetwork with the Heart of Wisconsin!\n\nPlease join us for a fun evening of delicious food\, networking\, raffle prizes and more! Open to Members\, potential Members and free to attend.
X-ALT-DESC;FMTTYPE=text/html:<div class="xdj266r x11i5rnm xat24cr x1mh8g0r x1vvkbs" style="margin: 0px\; overflow-wrap: break-word\; font-family: &quot\;Segoe UI Historic&quot\;\, &quot\;Segoe UI&quot\;\, Helvetica\, Arial\, sans-serif\; color: rgb(5\, 5\, 5)\; font-size: 15px\; background-color: rgb(255\, 255\, 255)\;">Tri-City Services will be hosting Networking at Night on May 13th at their location located at 321 4th Ave N\, Wisconsin Rapids\, WI</div>\n\n<div class="x11i5rnm xat24cr x1mh8g0r x1vvkbs xtlvy1s" style="margin: 0.5em 0px 0px\; overflow-wrap: break-word\; font-family: &quot\;Segoe UI Historic&quot\;\, &quot\;Segoe UI&quot\;\, Helvetica\, Arial\, sans-serif\; color: rgb(5\, 5\, 5)\; font-size: 15px\; background-color: rgb(255\, 255\, 255)\;">Network with the Heart of Wisconsin!</div>\n\n<div class="x11i5rnm xat24cr x1mh8g0r x1vvkbs xtlvy1s" style="margin: 0.5em 0px 0px\; overflow-wrap: break-word\; font-family: &quot\;Segoe UI Historic&quot\;\, &quot\;Segoe UI&quot\;\, Helvetica\, Arial\, sans-serif\; color: rgb(5\, 5\, 5)\; font-size: 15px\; background-color: rgb(255\, 255\, 255)\;">Please join us for a fun evening of delicious food\, networking\, raffle prizes and more! Open to Members\, potential Members and free to attend.&nbsp\;</div>\n
LOCATION:321 4th Ave N Wisconsin Rapids\, WI 54495
UID:e.216.30724
SEQUENCE:3
DTSTAMP:20260423T181034Z
URL:https://members.wisconsinrapidschamber.com/events/details/2026-networking-at-night-tri-city-services-30724
END:VEVENT

END:VCALENDAR
