BEGIN:VCALENDAR
VERSION:2.0
PRODID:-//ChamberMaster//Event Calendar 2.0//EN
METHOD:PUBLISH
X-PUBLISHED-TTL:P3D
REFRESH-INTERVAL:P3D
CALSCALE:GREGORIAN
BEGIN:VEVENT
DTSTART:20241017T230000Z
DTEND:20241018T010000Z
X-MICROSOFT-CDO-ALLDAYEVENT:FALSE
SUMMARY:Free Fall Estate Planning Seminar
DESCRIPTION:Anderson O'Brien\, LLP is pleased to host a free estate planning seminar on October 17. The topics typically include nursing home and long-term care costs\, probate\, guardianships\, estate planning\, wills\, trusts\, irrevocable trusts\, revocable trusts\, insurance coverage\, liability\, Medicare\, and more. The presentations typically last for about 2 hours. Free refreshments are served and free materials are given out. Anyone from the public is free to attend.
X-ALT-DESC;FMTTYPE=text/html:Anderson O&rsquo\;Brien\, LLP is pleased to host a free estate planning seminar on October 17. The topics typically include nursing home and long-term care costs\, probate\, guardianships\, estate planning\, wills\, trusts\, irrevocable trusts\, revocable trusts\, insurance coverage\, liability\, Medicare\, and more. The presentations typically last for about 2 hours. Free refreshments are served and free materials are given out. Anyone from the public is free to attend.
LOCATION:Mid-State Technical College 1001 Centerpoint Dr\, Stevens Point\, WI
UID:e.216.30624
SEQUENCE:3
DTSTAMP:20260419T172520Z
URL:https://members.wisconsinrapidschamber.com/events/details/free-fall-estate-planning-seminar-30624
END:VEVENT

END:VCALENDAR
