BEGIN:VCALENDAR
VERSION:2.0
PRODID:-//ChamberMaster//Event Calendar 2.0//EN
METHOD:PUBLISH
X-PUBLISHED-TTL:P3D
REFRESH-INTERVAL:P3D
CALSCALE:GREGORIAN
BEGIN:VEVENT
DTSTART:20240821T223000Z
DTEND:20240822T000000Z
X-MICROSOFT-CDO-ALLDAYEVENT:FALSE
SUMMARY:Rendezvous in the Park 2024
DESCRIPTION:Bring the whole family and join us for Rendezvous in the Park at Riverside Park in Nekoosa! Grab your lawn chairs and enjoy live music by the river in a beautiful setting. You won't want to miss this fun and relaxing evening!\n\n\n\nFood Provided By:\n\nJune- Buckley Baldwin Post #2534 \n\nJuly- Chat R' Box Catering \n\nAugust- Nekoosa Lions Club\n\n\n\nEntertainment:\n\nJune- Duology\n\nJuly- Steve Strasman\n\nAugust- The Shanty Towners\n\n\n\nSeason Sponsor:  \n\nCity of Nekoosa\n\n\n\nMonthly Sponsor(s):\n\nJune- The Nekoosa Lions Club\n\nJuly- ERCO Worldwide & Domtar Industries\n\nAugust- Ho-Chunk Gaming- Nekoosa & Jacoby Custom Cues
X-ALT-DESC;FMTTYPE=text/html:<strong>Bring the whole family and join us for Rendezvous in the Park at Riverside Park in Nekoosa! Grab your lawn chairs and enjoy live music by the river in a beautiful setting. You won&#39\;t want to miss this fun and relaxing evening!</strong><br />\n<br />\n<u><strong>Food Provided By</strong></u>:<br />\n<strong>June- Buckley Baldwin Post #2534</strong>&nbsp\;<br />\n<strong>July- Chat R&#39\; Box Catering&nbsp\;<br />\nAugust- Nekoosa Lions Club</strong><br />\n<br />\n<strong><u>Entertainment</u>:<br />\nJune- Duolo<u>gy</u><br />\nJuly- Steve Strasman<br />\nAugust- The Shanty Towners</strong><br />\n<br />\n<u><strong>Season Sponsor:&nbsp\; </strong></u><br />\n<strong>City of Nekoosa</strong><br />\n<br />\n<u><strong>Monthly Sponsor(s):</strong></u><br />\n<strong>June- The Nekoosa Lions Club<br />\nJuly- ERCO Worldwide &amp\; Domtar Industries<br />\nAugust- Ho-Chunk Gaming- Nekoosa &amp\; Jacoby Custom Cues</strong>&nbsp\;<br />\n&nbsp\;
LOCATION:Riverside Park Nekoosa Down by the River
UID:e.216.29357
SEQUENCE:3
DTSTAMP:20260421T083626Z
URL:https://members.wisconsinrapidschamber.com/events/details/rendezvous-in-the-park-june-21st-2023-08-21-2024-29357
END:VEVENT

END:VCALENDAR
